BEGIN:VCALENDAR
VERSION:2.0
BEGIN:VEVENT
DTSTART:20200708T070000Z
DTEND:20200708T103000Z
SUMMARY:Example event one
DESCRIPTION:This is an example of a single event with no sessions.
LOCATION:111 Bridge St, Nelson, 7010, New Zealand
END:VEVENT
END:VCALENDAR